Package: ropls Version: 1.40.0 Command: rm -rf ropls.buildbin-libdir && mkdir ropls.buildbin-libdir && /Users/biocbuild/BBS/utils/build-universal.sh ropls_1.40.0.tar.gz /Library/Frameworks/R.framework/Resources/bin/R ropls.buildbin-libdir StartedAt: 2025-05-02 14:19:06 -0400 (Fri, 02 May 2025) EndedAt: 2025-05-02 14:20:34 -0400 (Fri, 02 May 2025) EllapsedTime: 88.4 seconds RetCode: 0 Status: OK PackageFile: ropls_1.40.0.tgz PackageFileSize: 6.072 MiB