Package: rols Version: 3.4.0 Command: /Library/Frameworks/R.framework/Resources/bin/R CMD INSTALL rols StartedAt: 2025-05-26 16:07:57 -0400 (Mon, 26 May 2025) EndedAt: 2025-05-26 16:08:13 -0400 (Mon, 26 May 2025) EllapsedTime: 16.1 seconds RetCode: 0 Status: OK