Package: roastgsa Version: 1.4.0 Command: /Library/Frameworks/R.framework/Resources/bin/R CMD build --keep-empty-dirs --no-resave-data roastgsa StartedAt: 2025-01-02 21:40:48 -0500 (Thu, 02 Jan 2025) EndedAt: 2025-01-02 21:43:37 -0500 (Thu, 02 Jan 2025) EllapsedTime: 169.1 seconds RetCode: 0 Status: OK PackageFile: roastgsa_1.4.0.tar.gz PackageFileSize: 2.201 MiB