Package: rnaEditr Version: 1.16.0 Command: /home/biocbuild/R/R/bin/R CMD check --install=check:rnaEditr.install-out.txt --library=/home/biocbuild/R/R/site-library --no-vignettes --timings rnaEditr_1.16.0.tar.gz StartedAt: 2025-01-31 09:47:40 -0000 (Fri, 31 Jan 2025) EndedAt: 2025-01-31 09:53:06 -0000 (Fri, 31 Jan 2025) EllapsedTime: 326.3 seconds RetCode: 0 Status: WARNINGS CheckDir: rnaEditr.Rcheck Warnings: 1