Package: rmspc Version: 1.14.0 Command: /Library/Frameworks/R.framework/Resources/bin/R CMD INSTALL rmspc StartedAt: 2025-05-01 15:49:22 -0400 (Thu, 01 May 2025) EndedAt: 2025-05-01 15:50:24 -0400 (Thu, 01 May 2025) EllapsedTime: 61.9 seconds RetCode: 0 Status: OK