Package: rmspc Version: 1.14.0 Command: /Library/Frameworks/R.framework/Resources/bin/R CMD check --install=check:rmspc.install-out.txt --library=/Library/Frameworks/R.framework/Resources/library --no-vignettes --timings rmspc_1.14.0.tar.gz StartedAt: 2025-05-07 07:35:45 -0400 (Wed, 07 May 2025) EndedAt: 2025-05-07 07:40:40 -0400 (Wed, 07 May 2025) EllapsedTime: 294.5 seconds RetCode: 0 Status: OK CheckDir: rmspc.Rcheck Warnings: 0