Package: rigvf Version: 1.2.2 Command: /home/biocbuild/bbs-3.22-bioc/R/bin/R CMD INSTALL rigvf StartedAt: 2025-11-20 16:05:25 -0500 (Thu, 20 Nov 2025) EndedAt: 2025-11-20 16:05:35 -0500 (Thu, 20 Nov 2025) EllapsedTime: 9.6 seconds RetCode: 0 Status: OK