Package: rhinotypeR Version: 1.2.0 Maintainer: Martha Luka MaintainerEmail: marthaluka20 at gmail.com git_url: https://git.bioconductor.org/packages/rhinotypeR git_branch: RELEASE_3_21 git_last_commit: 0278a93 git_last_commit_date: 2025-04-15 13:41:27 -0400 (Tue, 15 Apr 2025)