Back to Multiple platform build/check report for BioC 3.22:   simplified   long
ABCDEFGHIJKLMNOPQ[R]STUVWXYZ

This page was generated on 2025-11-27 12:01 -0500 (Thu, 27 Nov 2025).

HostnameOSArch (*)R versionInstalled pkgs
nebbiolo2Linux (Ubuntu 24.04.3 LTS)x86_644.5.2 (2025-10-31) -- "[Not] Part in a Rumble" 4876
merida1macOS 12.7.6 Montereyx86_644.5.2 Patched (2025-11-05 r88990) -- "[Not] Part in a Rumble" 4656
kjohnson1macOS 13.7.5 Venturaarm644.5.2 Patched (2025-11-04 r88984) -- "[Not] Part in a Rumble" 4602
taishanLinux (openEuler 24.03 LTS)aarch644.5.0 (2025-04-11) -- "How About a Twenty-Six" 4668
Click on any hostname to see more info about the system (e.g. compilers)      (*) as reported by 'uname -p', except on Windows and Mac OS X

All results for package rhdf5filters


To the developers/maintainers of the rhdf5filters package:
- Allow up to 24 hours (and sometimes 48 hours) for your latest push to git@git.bioconductor.org:packages/rhdf5filters.git to reflect on this report. See Troubleshooting Build Report for more information.
- Use the following Renviron settings to reproduce errors and warnings.
- If 'R CMD check' started to fail recently on the Linux builder(s) over a missing dependency, add the missing dependency to 'Suggests:' in your DESCRIPTION file. See Renviron.bioc for more information.

raw results

Package 1790/2361HostnameOS / ArchINSTALLBUILDCHECKBUILD BIN
rhdf5filters 1.22.0  (landing page)
Hugo Gruson
Snapshot Date: 2025-11-24 13:45 -0500 (Mon, 24 Nov 2025)
git_url: https://git.bioconductor.org/packages/rhdf5filters
git_branch: RELEASE_3_22
git_last_commit: 3465c24
git_last_commit_date: 2025-10-29 10:57:27 -0500 (Wed, 29 Oct 2025)
nebbiolo2Linux (Ubuntu 24.04.3 LTS) / x86_64  OK    OK    OK  UNNEEDED, same version is already published
merida1macOS 12.7.6 Monterey / x86_64  OK    OK    OK    OK  UNNEEDED, same version is already published
kjohnson1macOS 13.7.5 Ventura / arm64  OK    OK    OK    NA  
taishanLinux (openEuler 24.03 LTS) / aarch64  OK    OK    OK  



Results for Bioconductor software packages that depend directly on package rhdf5filters

QUICK STATSOS / ArchINSTALLBUILDCHECKBUILD BIN
nebbiolo2Linux (Ubuntu 24.04.3 LTS) / x86_64
002
002
0020
merida1macOS 12.7.6 Monterey / x86_64
002
002
0020
002
kjohnson1macOS 13.7.5 Ventura / arm64
002
002
0020
000
taishanLinux (openEuler 24.03 LTS) / aarch64
002
002
0110
Package 1/2HostnameOS / ArchINSTALLBUILDCHECKBUILD BIN
h5mread 1.2.1  (landing page)
Hervé Pagès
git_last_commit: b377076
git_last_commit_date: 2025-11-21 09:30:37 -0500
nebbiolo2Linux (Ubuntu 24.04.3 LTS) / x86_64  OK    OK    WARNINGS  YES
merida1macOS 12.7.6 Monterey / x86_64  OK    OK    WARNINGS    OK  YES
kjohnson1macOS 13.7.5 Ventura / arm64  OK    OK    WARNINGS    NA  
taishanLinux (openEuler 24.03 LTS) / aarch64  OK    OK    ERROR  
Package 2/2HostnameOS / ArchINSTALLBUILDCHECKBUILD BIN
rhdf5 2.54.0  (landing page)
Hugo Gruson
git_last_commit: c7248dd
git_last_commit_date: 2025-10-29 10:10:03 -0500
nebbiolo2Linux (Ubuntu 24.04.3 LTS) / x86_64  OK    OK    WARNINGS  UNNEEDED, same version is already published
merida1macOS 12.7.6 Monterey / x86_64  OK    OK    WARNINGS    OK  UNNEEDED, same version is already published
kjohnson1macOS 13.7.5 Ventura / arm64  OK    OK    WARNINGS    NA  
taishanLinux (openEuler 24.03 LTS) / aarch64  OK    OK    WARNINGS