Package: rhdf5 Version: 2.50.2 Command: /Library/Frameworks/R.framework/Resources/bin/R CMD INSTALL rhdf5 StartedAt: 2025-01-20 15:14:00 -0500 (Mon, 20 Jan 2025) EndedAt: 2025-01-20 15:14:14 -0500 (Mon, 20 Jan 2025) EllapsedTime: 14.9 seconds RetCode: 0 Status: OK