Package: rgsepd Version: 1.40.0 Command: /Library/Frameworks/R.framework/Resources/bin/R CMD INSTALL rgsepd StartedAt: 2025-05-01 16:19:51 -0400 (Thu, 01 May 2025) EndedAt: 2025-05-01 16:23:42 -0400 (Thu, 01 May 2025) EllapsedTime: 231.4 seconds RetCode: 0 Status: OK