Package: rgsepd Version: 1.40.0 Command: /Library/Frameworks/R.framework/Resources/bin/R CMD INSTALL rgsepd StartedAt: 2025-04-21 15:33:54 -0400 (Mon, 21 Apr 2025) EndedAt: 2025-04-21 15:37:20 -0400 (Mon, 21 Apr 2025) EllapsedTime: 206.0 seconds RetCode: 0 Status: OK