Package: rgsepd Version: 1.40.0 Command: /Library/Frameworks/R.framework/Resources/bin/R CMD build --keep-empty-dirs --no-resave-data rgsepd StartedAt: 2025-04-21 18:09:48 -0400 (Mon, 21 Apr 2025) EndedAt: 2025-04-21 18:14:49 -0400 (Mon, 21 Apr 2025) EllapsedTime: 301.5 seconds RetCode: 0 Status: OK PackageFile: rgsepd_1.40.0.tar.gz PackageFileSize: 1.185 MiB