Package: rgsepd Version: 1.40.0 Command: /Library/Frameworks/R.framework/Resources/bin/R CMD check --install=check:rgsepd.install-out.txt --library=/Library/Frameworks/R.framework/Resources/library --no-vignettes --timings rgsepd_1.40.0.tar.gz StartedAt: 2025-05-07 07:13:50 -0400 (Wed, 07 May 2025) EndedAt: 2025-05-07 07:23:09 -0400 (Wed, 07 May 2025) EllapsedTime: 558.2 seconds RetCode: 0 Status: OK CheckDir: rgsepd.Rcheck Warnings: 0