Package: rgsepd Version: 1.40.0 Command: /Library/Frameworks/R.framework/Resources/bin/R CMD build --keep-empty-dirs --no-resave-data rgsepd StartedAt: 2025-05-06 06:54:20 -0400 (Tue, 06 May 2025) EndedAt: 2025-05-06 07:02:10 -0400 (Tue, 06 May 2025) EllapsedTime: 469.7 seconds RetCode: 0 Status: OK PackageFile: rgsepd_1.40.0.tar.gz PackageFileSize: 1.185 MiB