Package: rgoslin Version: 1.12.0 Command: /Library/Frameworks/R.framework/Resources/bin/R CMD build --keep-empty-dirs --no-resave-data rgoslin StartedAt: 2025-05-05 21:44:20 -0400 (Mon, 05 May 2025) EndedAt: 2025-05-05 21:51:49 -0400 (Mon, 05 May 2025) EllapsedTime: 449.3 seconds RetCode: 0 Status: OK PackageFile: rgoslin_1.12.0.tar.gz PackageFileSize: 1.465 MiB