Package: rgoslin Version: 1.12.0 Command: /Library/Frameworks/R.framework/Resources/bin/R CMD INSTALL rgoslin StartedAt: 2025-04-21 15:09:18 -0400 (Mon, 21 Apr 2025) EndedAt: 2025-04-21 15:11:58 -0400 (Mon, 21 Apr 2025) EllapsedTime: 159.6 seconds RetCode: 0 Status: OK