Package: rgoslin Version: 1.12.0 Command: /Library/Frameworks/R.framework/Resources/bin/R CMD INSTALL rgoslin StartedAt: 2025-04-21 15:04:54 -0400 (Mon, 21 Apr 2025) EndedAt: 2025-04-21 15:05:54 -0400 (Mon, 21 Apr 2025) EllapsedTime: 60.7 seconds RetCode: 0 Status: OK