Package: rgoslin Version: 1.12.0 Command: /Library/Frameworks/R.framework/Resources/bin/R CMD check --install=check:rgoslin.install-out.txt --library=/Library/Frameworks/R.framework/Resources/library --no-vignettes --timings rgoslin_1.12.0.tar.gz StartedAt: 2025-04-21 21:13:36 -0400 (Mon, 21 Apr 2025) EndedAt: 2025-04-21 21:13:49 -0400 (Mon, 21 Apr 2025) EllapsedTime: 13.1 seconds RetCode: 0 Status: OK CheckDir: rgoslin.Rcheck Warnings: 0