############################################################################## ############################################################################## ### ### Running command: ### ### /Library/Frameworks/R.framework/Resources/bin/R CMD INSTALL rfaRm ### ############################################################################## ############################################################################## * installing to library ‘/Library/Frameworks/R.framework/Versions/4.5-arm64/Resources/library’ * installing *source* package ‘rfaRm’ ... ** this is package ‘rfaRm’ version ‘1.20.0’ ** using staged installation ** R ** inst ** byte-compile and prepare package for lazy loading ** help *** installing help indices ** building package indices ** installing vignettes ** testing if installed package can be loaded from temporary location ** testing if installed package can be loaded from final location Warning in readLines(clanMembershipCon) : URL 'https://ftp.ebi.ac.uk/pub/databases/Rfam/CURRENT/database_files/clan_membership.txt.gz': Timeout of 600 seconds was reached Error: package or namespace load failed for ‘rfaRm’: .onLoad failed in loadNamespace() for 'rfaRm', details: call: readLines(clanMembershipCon) error: cannot open the connection to 'https://ftp.ebi.ac.uk/pub/databases/Rfam/CURRENT/database_files/clan_membership.txt.gz' Error: loading failed Execution halted ERROR: loading failed * removing ‘/Library/Frameworks/R.framework/Versions/4.5-arm64/Resources/library/rfaRm’ * restoring previous ‘/Library/Frameworks/R.framework/Versions/4.5-arm64/Resources/library/rfaRm’