Package: rexposome Version: 1.30.0 Command: /Library/Frameworks/R.framework/Resources/bin/R CMD check --install=check:rexposome.install-out.txt --library=/Library/Frameworks/R.framework/Resources/library --no-vignettes --timings rexposome_1.30.0.tar.gz StartedAt: 2025-04-29 12:04:45 -0400 (Tue, 29 Apr 2025) EndedAt: 2025-04-29 12:10:29 -0400 (Tue, 29 Apr 2025) EllapsedTime: 344.0 seconds RetCode: 0 Status: WARNINGS CheckDir: rexposome.Rcheck Warnings: 5