Package: rexposome Version: 1.30.0 Command: /Library/Frameworks/R.framework/Resources/bin/R CMD build --keep-empty-dirs --no-resave-data rexposome StartedAt: 2025-04-29 01:17:00 -0400 (Tue, 29 Apr 2025) EndedAt: 2025-04-29 01:20:26 -0400 (Tue, 29 Apr 2025) EllapsedTime: 205.9 seconds RetCode: 0 Status: OK PackageFile: rexposome_1.30.0.tar.gz PackageFileSize: 8.653 MiB