Package: rexposome Version: 1.30.0 Command: /Library/Frameworks/R.framework/Resources/bin/R CMD INSTALL rexposome StartedAt: 2025-04-21 15:12:58 -0400 (Mon, 21 Apr 2025) EndedAt: 2025-04-21 15:13:28 -0400 (Mon, 21 Apr 2025) EllapsedTime: 30.1 seconds RetCode: 0 Status: OK