Package: rexposome Version: 1.30.0 Command: /Library/Frameworks/R.framework/Resources/bin/R CMD check --install=check:rexposome.install-out.txt --library=/Library/Frameworks/R.framework/Resources/library --no-vignettes --timings rexposome_1.30.0.tar.gz StartedAt: 2025-04-21 23:00:21 -0400 (Mon, 21 Apr 2025) EndedAt: 2025-04-21 23:03:25 -0400 (Mon, 21 Apr 2025) EllapsedTime: 183.9 seconds RetCode: 0 Status: WARNINGS CheckDir: rexposome.Rcheck Warnings: 5