Package: rexposome Version: 1.30.0 Command: /home/biocbuild/R/R/bin/R CMD check --install=check:rexposome.install-out.txt --library=/home/biocbuild/R/R/site-library --no-vignettes --timings rexposome_1.30.0.tar.gz StartedAt: 2025-04-22 12:55:04 -0000 (Tue, 22 Apr 2025) EndedAt: 2025-04-22 12:59:00 -0000 (Tue, 22 Apr 2025) EllapsedTime: 236.3 seconds RetCode: 0 Status: WARNINGS CheckDir: rexposome.Rcheck Warnings: 5