Package: rexposome Version: 1.30.0 Command: /home/biocbuild/R/R/bin/R CMD build --keep-empty-dirs --no-resave-data rexposome StartedAt: 2025-04-22 03:50:09 -0000 (Tue, 22 Apr 2025) EndedAt: 2025-04-22 03:52:27 -0000 (Tue, 22 Apr 2025) EllapsedTime: 138.1 seconds RetCode: 0 Status: OK PackageFile: rexposome_1.30.0.tar.gz PackageFileSize: 7.591 MiB