Package: rexposome Version: 1.30.0 Command: /Library/Frameworks/R.framework/Resources/bin/R CMD INSTALL rexposome StartedAt: 2025-04-21 15:06:54 -0400 (Mon, 21 Apr 2025) EndedAt: 2025-04-21 15:07:02 -0400 (Mon, 21 Apr 2025) EllapsedTime: 8.3 seconds RetCode: 0 Status: OK