Package: rexposome Version: 1.30.0 Command: /Library/Frameworks/R.framework/Resources/bin/R CMD INSTALL rexposome StartedAt: 2025-04-28 18:48:17 -0400 (Mon, 28 Apr 2025) EndedAt: 2025-04-28 18:48:25 -0400 (Mon, 28 Apr 2025) EllapsedTime: 8.5 seconds RetCode: 0 Status: OK