Package: rexposome Version: 1.30.0 Command: /Library/Frameworks/R.framework/Resources/bin/R CMD build --keep-empty-dirs --no-resave-data rexposome StartedAt: 2025-05-06 06:50:49 -0400 (Tue, 06 May 2025) EndedAt: 2025-05-06 06:52:27 -0400 (Tue, 06 May 2025) EllapsedTime: 97.7 seconds RetCode: 0 Status: OK PackageFile: rexposome_1.30.0.tar.gz PackageFileSize: 8.651 MiB