Package: retrofit Version: 1.6.0 Command: /home/biocbuild/R/R/bin/R CMD build --keep-empty-dirs --no-resave-data retrofit StartedAt: 2025-01-31 02:07:28 -0000 (Fri, 31 Jan 2025) EndedAt: 2025-01-31 02:08:31 -0000 (Fri, 31 Jan 2025) EllapsedTime: 63.0 seconds RetCode: 0 Status: OK PackageFile: retrofit_1.6.0.tar.gz PackageFileSize: 3.895 MiB