Package: retrofit Version: 1.8.0 Command: chmod a+r retrofit -R && E:\biocbuild\bbs-3.21-bioc\R\bin\R.exe CMD build --keep-empty-dirs --no-resave-data retrofit StartedAt: 2025-08-14 21:42:52 -0400 (Thu, 14 Aug 2025) EndedAt: 2025-08-14 21:44:24 -0400 (Thu, 14 Aug 2025) EllapsedTime: 91.3 seconds RetCode: 0 Status: OK PackageFile: retrofit_1.8.0.tar.gz PackageFileSize: 3.596 MiB