Package: retrofit Version: 1.8.0 Command: rm -rf retrofit.buildbin-libdir && mkdir retrofit.buildbin-libdir && E:\biocbuild\bbs-3.21-bioc\R\bin\R.exe CMD INSTALL --build --library=retrofit.buildbin-libdir retrofit_1.8.0.tar.gz StartedAt: 2025-08-15 10:05:39 -0400 (Fri, 15 Aug 2025) EndedAt: 2025-08-15 10:06:10 -0400 (Fri, 15 Aug 2025) EllapsedTime: 31.0 seconds RetCode: 0 Status: OK PackageFile: retrofit_1.8.0.zip PackageFileSize: 3.98 MiB