Package: retrofit Version: 1.8.0 Command: /Library/Frameworks/R.framework/Resources/bin/R CMD build --keep-empty-dirs --no-resave-data retrofit StartedAt: 2025-05-13 06:49:12 -0400 (Tue, 13 May 2025) EndedAt: 2025-05-13 06:50:02 -0400 (Tue, 13 May 2025) EllapsedTime: 49.9 seconds RetCode: 0 Status: OK PackageFile: retrofit_1.8.0.tar.gz PackageFileSize: 4.567 MiB