Package: regutools Version: 1.18.0 Command: /home/biocbuild/R/R/bin/R CMD build --keep-empty-dirs --no-resave-data regutools StartedAt: 2025-01-31 02:06:14 -0000 (Fri, 31 Jan 2025) EndedAt: 2025-01-31 02:08:03 -0000 (Fri, 31 Jan 2025) EllapsedTime: 109.1 seconds RetCode: 0 Status: OK PackageFile: regutools_1.18.0.tar.gz PackageFileSize: 388.7 KiB