Package: regutools Version: 1.20.0 Command: chmod a+r regutools -R && E:\biocbuild\bbs-3.21-bioc\R\bin\R.exe CMD build --keep-empty-dirs --no-resave-data regutools StartedAt: 2025-08-14 21:41:43 -0400 (Thu, 14 Aug 2025) EndedAt: 2025-08-14 21:43:47 -0400 (Thu, 14 Aug 2025) EllapsedTime: 124.4 seconds RetCode: 0 Status: OK PackageFile: regutools_1.20.0.tar.gz PackageFileSize: 359.9 KiB