Package: regsplice Version: 1.32.0 Command: /home/biocbuild/R/R/bin/R CMD INSTALL regsplice StartedAt: 2025-01-30 20:52:46 -0000 (Thu, 30 Jan 2025) EndedAt: 2025-01-30 20:53:12 -0000 (Thu, 30 Jan 2025) EllapsedTime: 26.4 seconds RetCode: 0 Status: OK