Package: regsplice Version: 1.32.0 Command: /home/biocbuild/R/R/bin/R CMD build --keep-empty-dirs --no-resave-data regsplice StartedAt: 2025-01-31 02:06:08 -0000 (Fri, 31 Jan 2025) EndedAt: 2025-01-31 02:07:10 -0000 (Fri, 31 Jan 2025) EllapsedTime: 62.0 seconds RetCode: 0 Status: OK PackageFile: regsplice_1.32.0.tar.gz PackageFileSize: 313.3 KiB