Package: regsplice Version: 1.34.1 Command: E:\biocbuild\bbs-3.21-bioc\R\bin\R.exe CMD INSTALL regsplice StartedAt: 2025-08-14 16:17:37 -0400 (Thu, 14 Aug 2025) EndedAt: 2025-08-14 16:18:20 -0400 (Thu, 14 Aug 2025) EllapsedTime: 42.7 seconds RetCode: 0 Status: OK