Package: regsplice Version: 1.34.1 Command: /home/biocbuild/bbs-3.21-bioc/R/bin/R CMD build --keep-empty-dirs --no-resave-data regsplice StartedAt: 2025-09-28 19:38:12 -0400 (Sun, 28 Sep 2025) EndedAt: 2025-09-28 19:39:02 -0400 (Sun, 28 Sep 2025) EllapsedTime: 50.0 seconds RetCode: 0 Status: OK PackageFile: regsplice_1.34.1.tar.gz PackageFileSize: 287 KiB