Package: regioneReloaded Version: 1.8.0 Command: /home/biocbuild/R/R/bin/R CMD check --install=check:regioneReloaded.install-out.txt --library=/home/biocbuild/R/R/site-library --no-vignettes --timings regioneReloaded_1.8.0.tar.gz StartedAt: 2025-01-31 09:36:10 -0000 (Fri, 31 Jan 2025) EndedAt: 2025-01-31 09:44:36 -0000 (Fri, 31 Jan 2025) EllapsedTime: 505.5 seconds RetCode: 0 Status: OK CheckDir: regioneReloaded.Rcheck Warnings: 0