Package: regioneReloaded Version: 1.8.0 Command: /home/biocbuild/R/R/bin/R CMD build --keep-empty-dirs --no-resave-data regioneReloaded StartedAt: 2025-01-31 02:05:49 -0000 (Fri, 31 Jan 2025) EndedAt: 2025-01-31 02:07:35 -0000 (Fri, 31 Jan 2025) EllapsedTime: 106.1 seconds RetCode: 0 Status: OK PackageFile: regioneReloaded_1.8.0.tar.gz PackageFileSize: 2.433 MiB