Package: regioneReloaded Version: 1.10.0 Command: /home/biocbuild/bbs-3.21-bioc/R/bin/R CMD INSTALL regioneReloaded StartedAt: 2025-10-01 15:59:46 -0400 (Wed, 01 Oct 2025) EndedAt: 2025-10-01 16:00:21 -0400 (Wed, 01 Oct 2025) EllapsedTime: 35.9 seconds RetCode: 0 Status: OK