Package: regioneReloaded Version: 1.8.0 Command: /Library/Frameworks/R.framework/Resources/bin/R CMD check --install=check:regioneReloaded.install-out.txt --library=/Library/Frameworks/R.framework/Resources/library --no-vignettes --timings regioneReloaded_1.8.0.tar.gz StartedAt: 2025-01-31 08:45:49 -0500 (Fri, 31 Jan 2025) EndedAt: 2025-01-31 09:00:45 -0500 (Fri, 31 Jan 2025) EllapsedTime: 896.3 seconds RetCode: 0 Status: OK CheckDir: regioneReloaded.Rcheck Warnings: 0