Package: regioneReloaded Version: 1.8.0 Command: /Library/Frameworks/R.framework/Resources/bin/R CMD build --keep-empty-dirs --no-resave-data regioneReloaded StartedAt: 2025-01-31 06:18:17 -0500 (Fri, 31 Jan 2025) EndedAt: 2025-01-31 06:19:31 -0500 (Fri, 31 Jan 2025) EllapsedTime: 74.5 seconds RetCode: 0 Status: OK PackageFile: regioneReloaded_1.8.0.tar.gz PackageFileSize: 4.037 MiB