Package: regioneR Version: 1.38.0 Command: /home/biocbuild/R/R/bin/R CMD check --install=check:regioneR.install-out.txt --library=/home/biocbuild/R/R/site-library --no-vignettes --timings regioneR_1.38.0.tar.gz StartedAt: 2025-01-31 09:35:49 -0000 (Fri, 31 Jan 2025) EndedAt: 2025-01-31 09:43:59 -0000 (Fri, 31 Jan 2025) EllapsedTime: 489.5 seconds RetCode: 0 Status: OK CheckDir: regioneR.Rcheck Warnings: 0