Package: regioneR Version: 1.40.0 Command: /Library/Frameworks/R.framework/Resources/bin/R CMD build --keep-empty-dirs --no-resave-data regioneR StartedAt: 2025-05-08 21:40:55 -0400 (Thu, 08 May 2025) EndedAt: 2025-05-08 21:43:51 -0400 (Thu, 08 May 2025) EllapsedTime: 176.2 seconds RetCode: 1 Status: ERROR PackageFile: None PackageFileSize: NA