Package: regioneR Version: 1.40.0 Command: /Library/Frameworks/R.framework/Resources/bin/R CMD build --keep-empty-dirs --no-resave-data regioneR StartedAt: 2025-04-21 18:07:53 -0400 (Mon, 21 Apr 2025) EndedAt: 2025-04-21 18:09:32 -0400 (Mon, 21 Apr 2025) EllapsedTime: 98.2 seconds RetCode: 1 Status: ERROR PackageFile: None PackageFileSize: NA