Package: regionalpcs Version: 1.4.0 Command: /home/biocbuild/R/R/bin/R CMD INSTALL regionalpcs StartedAt: 2025-02-03 21:16:04 -0000 (Mon, 03 Feb 2025) EndedAt: 2025-02-03 21:16:07 -0000 (Mon, 03 Feb 2025) EllapsedTime: 2.3 seconds RetCode: 0 Status: OK