Package: regionalpcs Version: 1.4.0 Command: /home/biocbuild/R/R/bin/R CMD build --keep-empty-dirs --no-resave-data regionalpcs StartedAt: 2025-02-04 02:10:36 -0000 (Tue, 04 Feb 2025) EndedAt: 2025-02-04 02:11:15 -0000 (Tue, 04 Feb 2025) EllapsedTime: 39.0 seconds RetCode: 0 Status: OK PackageFile: regionalpcs_1.4.0.tar.gz PackageFileSize: 495 KiB