Package: regionalpcs Version: 1.6.0 Command: /home/biocbuild/R/R/bin/R CMD INSTALL regionalpcs StartedAt: 2025-05-12 21:12:24 -0000 (Mon, 12 May 2025) EndedAt: 2025-05-12 21:12:27 -0000 (Mon, 12 May 2025) EllapsedTime: 2.2 seconds RetCode: 0 Status: OK